BEGIN:VCALENDAR
VERSION:2.0
PRODID:-//Jill Saunders - ECPv6.6.4.2//NONSGML v1.0//EN
CALSCALE:GREGORIAN
METHOD:PUBLISH
X-WR-CALNAME:Jill Saunders
X-ORIGINAL-URL:https://jilldianesaunders.com
X-WR-CALDESC:Events for Jill Saunders
REFRESH-INTERVAL;VALUE=DURATION:PT1H
X-Robots-Tag:noindex
X-PUBLISHED-TTL:PT1H
BEGIN:VTIMEZONE
TZID:America/Chicago
BEGIN:DAYLIGHT
TZOFFSETFROM:-0600
TZOFFSETTO:-0500
TZNAME:CDT
DTSTART:20180311T080000
END:DAYLIGHT
BEGIN:STANDARD
TZOFFSETFROM:-0500
TZOFFSETTO:-0600
TZNAME:CST
DTSTART:20181104T070000
END:STANDARD
END:VTIMEZONE
BEGIN:VEVENT
DTSTART;TZID=America/Chicago:20180923T060000
DTEND;TZID=America/Chicago:20180923T120000
DTSTAMP:20260422T092535
CREATED:20180902T044317Z
LAST-MODIFIED:20180902T044440Z
UID:2727-1537682400-1537704000@jilldianesaunders.com
SUMMARY:Nicollet Open Streets - Up Yoga Art Fair
DESCRIPTION:Dear Friends\, \nI’ve been asked to be part of an Art Fair Pop-Up at Up Yoga on 9/23 from 11:00am – 5:00pm.  This is part of the Nicollet Open Streets celebration. \nMy understanding is that there will be about 20 artists at the Pop-Up.  Come join us!  I’ll be sharing some new journals and prints. \n \n 
URL:https://jilldianesaunders.com/event/nicollet-open-streets-yoga-art-fair/
LOCATION:Up Yoga\, 4325 Nicollet Avenue\, Minneapolis\, MN\, 55419\, United States
CATEGORIES:Community Room
ATTACH;FMTTYPE=image/jpeg:https://jilldianesaunders.com/wp-content/uploads/2015/06/header2_MLSPSkyline.jpg
ORGANIZER;CN="":MAILTO:jilldianesaunders@gmail.com
END:VEVENT
END:VCALENDAR